BEGIN:VCALENDAR
VERSION:2.0
PRODID:-//Forest County Potawatomi - ECPv6.15.20//NONSGML v1.0//EN
CALSCALE:GREGORIAN
METHOD:PUBLISH
X-ORIGINAL-URL:https://www.fcpotawatomi.com
X-WR-CALDESC:Events for Forest County Potawatomi
REFRESH-INTERVAL;VALUE=DURATION:PT1H
X-Robots-Tag:noindex
X-PUBLISHED-TTL:PT1H
BEGIN:VTIMEZONE
TZID:America/Chicago
BEGIN:DAYLIGHT
TZOFFSETFROM:-0600
TZOFFSETTO:-0500
TZNAME:CDT
DTSTART:20250309T080000
END:DAYLIGHT
BEGIN:STANDARD
TZOFFSETFROM:-0500
TZOFFSETTO:-0600
TZNAME:CST
DTSTART:20251102T070000
END:STANDARD
BEGIN:DAYLIGHT
TZOFFSETFROM:-0600
TZOFFSETTO:-0500
TZNAME:CDT
DTSTART:20260308T080000
END:DAYLIGHT
BEGIN:STANDARD
TZOFFSETFROM:-0500
TZOFFSETTO:-0600
TZNAME:CST
DTSTART:20261101T070000
END:STANDARD
BEGIN:DAYLIGHT
TZOFFSETFROM:-0600
TZOFFSETTO:-0500
TZNAME:CDT
DTSTART:20270314T080000
END:DAYLIGHT
BEGIN:STANDARD
TZOFFSETFROM:-0500
TZOFFSETTO:-0600
TZNAME:CST
DTSTART:20271107T070000
END:STANDARD
BEGIN:DAYLIGHT
TZOFFSETFROM:-0600
TZOFFSETTO:-0500
TZNAME:CDT
DTSTART:20280312T080000
END:DAYLIGHT
BEGIN:STANDARD
TZOFFSETFROM:-0500
TZOFFSETTO:-0600
TZNAME:CST
DTSTART:20281105T070000
END:STANDARD
END:VTIMEZONE
BEGIN:VEVENT
DTSTART;TZID=America/Chicago:20261007T100000
DTEND;TZID=America/Chicago:20261007T120000
DTSTAMP:20260424T173331
CREATED:20250311T183236Z
LAST-MODIFIED:20250311T183238Z
UID:10011965-1791367200-1791374400@www.fcpotawatomi.com
SUMMARY:Language Class
DESCRIPTION:
URL:https://www.fcpotawatomi.com/event/language-class/2026-10-07/
LOCATION:FCP Cultural Center\, Library & Museum\, 8130 Mish Ko Swen Drive\, Crandon\, WI\, 54520\, United States
CATEGORIES:Cultural Center Library & Museum,Main,Tribal Members
END:VEVENT
BEGIN:VEVENT
DTSTART;TZID=America/Chicago:20261014T100000
DTEND;TZID=America/Chicago:20261014T120000
DTSTAMP:20260424T173331
CREATED:20250311T183236Z
LAST-MODIFIED:20250311T183238Z
UID:10011966-1791972000-1791979200@www.fcpotawatomi.com
SUMMARY:Language Class
DESCRIPTION:
URL:https://www.fcpotawatomi.com/event/language-class/2026-10-14/
LOCATION:FCP Cultural Center\, Library & Museum\, 8130 Mish Ko Swen Drive\, Crandon\, WI\, 54520\, United States
CATEGORIES:Cultural Center Library & Museum,Main,Tribal Members
END:VEVENT
BEGIN:VEVENT
DTSTART;TZID=America/Chicago:20261021T100000
DTEND;TZID=America/Chicago:20261021T120000
DTSTAMP:20260424T173331
CREATED:20250311T183236Z
LAST-MODIFIED:20250311T183238Z
UID:10011967-1792576800-1792584000@www.fcpotawatomi.com
SUMMARY:Language Class
DESCRIPTION:
URL:https://www.fcpotawatomi.com/event/language-class/2026-10-21/
LOCATION:FCP Cultural Center\, Library & Museum\, 8130 Mish Ko Swen Drive\, Crandon\, WI\, 54520\, United States
CATEGORIES:Cultural Center Library & Museum,Main,Tribal Members
END:VEVENT
BEGIN:VEVENT
DTSTART;TZID=America/Chicago:20261028T100000
DTEND;TZID=America/Chicago:20261028T120000
DTSTAMP:20260424T173331
CREATED:20250311T183236Z
LAST-MODIFIED:20250311T183238Z
UID:10011968-1793181600-1793188800@www.fcpotawatomi.com
SUMMARY:Language Class
DESCRIPTION:
URL:https://www.fcpotawatomi.com/event/language-class/2026-10-28/
LOCATION:FCP Cultural Center\, Library & Museum\, 8130 Mish Ko Swen Drive\, Crandon\, WI\, 54520\, United States
CATEGORIES:Cultural Center Library & Museum,Main,Tribal Members
END:VEVENT
BEGIN:VEVENT
DTSTART;TZID=America/Chicago:20261104T100000
DTEND;TZID=America/Chicago:20261104T120000
DTSTAMP:20260424T173331
CREATED:20250311T183236Z
LAST-MODIFIED:20250311T183238Z
UID:10011969-1793786400-1793793600@www.fcpotawatomi.com
SUMMARY:Language Class
DESCRIPTION:
URL:https://www.fcpotawatomi.com/event/language-class/2026-11-04/
LOCATION:FCP Cultural Center\, Library & Museum\, 8130 Mish Ko Swen Drive\, Crandon\, WI\, 54520\, United States
CATEGORIES:Cultural Center Library & Museum,Main,Tribal Members
END:VEVENT
BEGIN:VEVENT
DTSTART;TZID=America/Chicago:20261111T100000
DTEND;TZID=America/Chicago:20261111T120000
DTSTAMP:20260424T173331
CREATED:20250311T183236Z
LAST-MODIFIED:20250311T183238Z
UID:10011970-1794391200-1794398400@www.fcpotawatomi.com
SUMMARY:Language Class
DESCRIPTION:
URL:https://www.fcpotawatomi.com/event/language-class/2026-11-11/
LOCATION:FCP Cultural Center\, Library & Museum\, 8130 Mish Ko Swen Drive\, Crandon\, WI\, 54520\, United States
CATEGORIES:Cultural Center Library & Museum,Main,Tribal Members
END:VEVENT
BEGIN:VEVENT
DTSTART;TZID=America/Chicago:20261118T100000
DTEND;TZID=America/Chicago:20261118T120000
DTSTAMP:20260424T173331
CREATED:20250311T183236Z
LAST-MODIFIED:20250311T183238Z
UID:10011971-1794996000-1795003200@www.fcpotawatomi.com
SUMMARY:Language Class
DESCRIPTION:
URL:https://www.fcpotawatomi.com/event/language-class/2026-11-18/
LOCATION:FCP Cultural Center\, Library & Museum\, 8130 Mish Ko Swen Drive\, Crandon\, WI\, 54520\, United States
CATEGORIES:Cultural Center Library & Museum,Main,Tribal Members
END:VEVENT
BEGIN:VEVENT
DTSTART;TZID=America/Chicago:20261125T100000
DTEND;TZID=America/Chicago:20261125T120000
DTSTAMP:20260424T173331
CREATED:20250311T183236Z
LAST-MODIFIED:20250311T183238Z
UID:10011972-1795600800-1795608000@www.fcpotawatomi.com
SUMMARY:Language Class
DESCRIPTION:
URL:https://www.fcpotawatomi.com/event/language-class/2026-11-25/
LOCATION:FCP Cultural Center\, Library & Museum\, 8130 Mish Ko Swen Drive\, Crandon\, WI\, 54520\, United States
CATEGORIES:Cultural Center Library & Museum,Main,Tribal Members
END:VEVENT
BEGIN:VEVENT
DTSTART;TZID=America/Chicago:20261202T100000
DTEND;TZID=America/Chicago:20261202T120000
DTSTAMP:20260424T173331
CREATED:20250311T183236Z
LAST-MODIFIED:20250311T183238Z
UID:10011973-1796205600-1796212800@www.fcpotawatomi.com
SUMMARY:Language Class
DESCRIPTION:
URL:https://www.fcpotawatomi.com/event/language-class/2026-12-02/
LOCATION:FCP Cultural Center\, Library & Museum\, 8130 Mish Ko Swen Drive\, Crandon\, WI\, 54520\, United States
CATEGORIES:Cultural Center Library & Museum,Main,Tribal Members
END:VEVENT
BEGIN:VEVENT
DTSTART;TZID=America/Chicago:20261209T100000
DTEND;TZID=America/Chicago:20261209T120000
DTSTAMP:20260424T173331
CREATED:20250311T183236Z
LAST-MODIFIED:20250311T183238Z
UID:10011974-1796810400-1796817600@www.fcpotawatomi.com
SUMMARY:Language Class
DESCRIPTION:
URL:https://www.fcpotawatomi.com/event/language-class/2026-12-09/
LOCATION:FCP Cultural Center\, Library & Museum\, 8130 Mish Ko Swen Drive\, Crandon\, WI\, 54520\, United States
CATEGORIES:Cultural Center Library & Museum,Main,Tribal Members
END:VEVENT
BEGIN:VEVENT
DTSTART;TZID=America/Chicago:20261216T100000
DTEND;TZID=America/Chicago:20261216T120000
DTSTAMP:20260424T173331
CREATED:20250311T183236Z
LAST-MODIFIED:20250311T183238Z
UID:10011975-1797415200-1797422400@www.fcpotawatomi.com
SUMMARY:Language Class
DESCRIPTION:
URL:https://www.fcpotawatomi.com/event/language-class/2026-12-16/
LOCATION:FCP Cultural Center\, Library & Museum\, 8130 Mish Ko Swen Drive\, Crandon\, WI\, 54520\, United States
CATEGORIES:Cultural Center Library & Museum,Main,Tribal Members
END:VEVENT
BEGIN:VEVENT
DTSTART;TZID=America/Chicago:20261223T100000
DTEND;TZID=America/Chicago:20261223T120000
DTSTAMP:20260424T173331
CREATED:20250311T183236Z
LAST-MODIFIED:20250311T183238Z
UID:10011976-1798020000-1798027200@www.fcpotawatomi.com
SUMMARY:Language Class
DESCRIPTION:
URL:https://www.fcpotawatomi.com/event/language-class/2026-12-23/
LOCATION:FCP Cultural Center\, Library & Museum\, 8130 Mish Ko Swen Drive\, Crandon\, WI\, 54520\, United States
CATEGORIES:Cultural Center Library & Museum,Main,Tribal Members
END:VEVENT
BEGIN:VEVENT
DTSTART;TZID=America/Chicago:20261230T100000
DTEND;TZID=America/Chicago:20261230T120000
DTSTAMP:20260424T173331
CREATED:20250311T183236Z
LAST-MODIFIED:20250311T183238Z
UID:10011977-1798624800-1798632000@www.fcpotawatomi.com
SUMMARY:Language Class
DESCRIPTION:
URL:https://www.fcpotawatomi.com/event/language-class/2026-12-30/
LOCATION:FCP Cultural Center\, Library & Museum\, 8130 Mish Ko Swen Drive\, Crandon\, WI\, 54520\, United States
CATEGORIES:Cultural Center Library & Museum,Main,Tribal Members
END:VEVENT
BEGIN:VEVENT
DTSTART;TZID=America/Chicago:20270106T100000
DTEND;TZID=America/Chicago:20270106T120000
DTSTAMP:20260424T173331
CREATED:20250311T183236Z
LAST-MODIFIED:20250311T183238Z
UID:10011978-1799229600-1799236800@www.fcpotawatomi.com
SUMMARY:Language Class
DESCRIPTION:
URL:https://www.fcpotawatomi.com/event/language-class/2027-01-06/
LOCATION:FCP Cultural Center\, Library & Museum\, 8130 Mish Ko Swen Drive\, Crandon\, WI\, 54520\, United States
CATEGORIES:Cultural Center Library & Museum,Main,Tribal Members
END:VEVENT
BEGIN:VEVENT
DTSTART;TZID=America/Chicago:20270113T100000
DTEND;TZID=America/Chicago:20270113T120000
DTSTAMP:20260424T173331
CREATED:20250311T183236Z
LAST-MODIFIED:20250311T183238Z
UID:10011979-1799834400-1799841600@www.fcpotawatomi.com
SUMMARY:Language Class
DESCRIPTION:
URL:https://www.fcpotawatomi.com/event/language-class/2027-01-13/
LOCATION:FCP Cultural Center\, Library & Museum\, 8130 Mish Ko Swen Drive\, Crandon\, WI\, 54520\, United States
CATEGORIES:Cultural Center Library & Museum,Main,Tribal Members
END:VEVENT
BEGIN:VEVENT
DTSTART;TZID=America/Chicago:20270120T100000
DTEND;TZID=America/Chicago:20270120T120000
DTSTAMP:20260424T173331
CREATED:20250311T183236Z
LAST-MODIFIED:20250311T183238Z
UID:10011980-1800439200-1800446400@www.fcpotawatomi.com
SUMMARY:Language Class
DESCRIPTION:
URL:https://www.fcpotawatomi.com/event/language-class/2027-01-20/
LOCATION:FCP Cultural Center\, Library & Museum\, 8130 Mish Ko Swen Drive\, Crandon\, WI\, 54520\, United States
CATEGORIES:Cultural Center Library & Museum,Main,Tribal Members
END:VEVENT
BEGIN:VEVENT
DTSTART;TZID=America/Chicago:20270127T100000
DTEND;TZID=America/Chicago:20270127T120000
DTSTAMP:20260424T173331
CREATED:20250311T183236Z
LAST-MODIFIED:20250311T183238Z
UID:10011981-1801044000-1801051200@www.fcpotawatomi.com
SUMMARY:Language Class
DESCRIPTION:
URL:https://www.fcpotawatomi.com/event/language-class/2027-01-27/
LOCATION:FCP Cultural Center\, Library & Museum\, 8130 Mish Ko Swen Drive\, Crandon\, WI\, 54520\, United States
CATEGORIES:Cultural Center Library & Museum,Main,Tribal Members
END:VEVENT
BEGIN:VEVENT
DTSTART;TZID=America/Chicago:20270203T100000
DTEND;TZID=America/Chicago:20270203T120000
DTSTAMP:20260424T173331
CREATED:20250311T183236Z
LAST-MODIFIED:20250311T183238Z
UID:10011982-1801648800-1801656000@www.fcpotawatomi.com
SUMMARY:Language Class
DESCRIPTION:
URL:https://www.fcpotawatomi.com/event/language-class/2027-02-03/
LOCATION:FCP Cultural Center\, Library & Museum\, 8130 Mish Ko Swen Drive\, Crandon\, WI\, 54520\, United States
CATEGORIES:Cultural Center Library & Museum,Main,Tribal Members
END:VEVENT
BEGIN:VEVENT
DTSTART;TZID=America/Chicago:20270210T100000
DTEND;TZID=America/Chicago:20270210T120000
DTSTAMP:20260424T173331
CREATED:20250311T183236Z
LAST-MODIFIED:20250311T183238Z
UID:10011983-1802253600-1802260800@www.fcpotawatomi.com
SUMMARY:Language Class
DESCRIPTION:
URL:https://www.fcpotawatomi.com/event/language-class/2027-02-10/
LOCATION:FCP Cultural Center\, Library & Museum\, 8130 Mish Ko Swen Drive\, Crandon\, WI\, 54520\, United States
CATEGORIES:Cultural Center Library & Museum,Main,Tribal Members
END:VEVENT
BEGIN:VEVENT
DTSTART;TZID=America/Chicago:20270217T100000
DTEND;TZID=America/Chicago:20270217T120000
DTSTAMP:20260424T173331
CREATED:20250311T183236Z
LAST-MODIFIED:20250311T183238Z
UID:10011984-1802858400-1802865600@www.fcpotawatomi.com
SUMMARY:Language Class
DESCRIPTION:
URL:https://www.fcpotawatomi.com/event/language-class/2027-02-17/
LOCATION:FCP Cultural Center\, Library & Museum\, 8130 Mish Ko Swen Drive\, Crandon\, WI\, 54520\, United States
CATEGORIES:Cultural Center Library & Museum,Main,Tribal Members
END:VEVENT
BEGIN:VEVENT
DTSTART;TZID=America/Chicago:20270224T100000
DTEND;TZID=America/Chicago:20270224T120000
DTSTAMP:20260424T173331
CREATED:20250311T183236Z
LAST-MODIFIED:20250311T183238Z
UID:10011985-1803463200-1803470400@www.fcpotawatomi.com
SUMMARY:Language Class
DESCRIPTION:
URL:https://www.fcpotawatomi.com/event/language-class/2027-02-24/
LOCATION:FCP Cultural Center\, Library & Museum\, 8130 Mish Ko Swen Drive\, Crandon\, WI\, 54520\, United States
CATEGORIES:Cultural Center Library & Museum,Main,Tribal Members
END:VEVENT
BEGIN:VEVENT
DTSTART;TZID=America/Chicago:20270303T100000
DTEND;TZID=America/Chicago:20270303T120000
DTSTAMP:20260424T173331
CREATED:20250311T183236Z
LAST-MODIFIED:20250311T183238Z
UID:10011986-1804068000-1804075200@www.fcpotawatomi.com
SUMMARY:Language Class
DESCRIPTION:
URL:https://www.fcpotawatomi.com/event/language-class/2027-03-03/
LOCATION:FCP Cultural Center\, Library & Museum\, 8130 Mish Ko Swen Drive\, Crandon\, WI\, 54520\, United States
CATEGORIES:Cultural Center Library & Museum,Main,Tribal Members
END:VEVENT
BEGIN:VEVENT
DTSTART;TZID=America/Chicago:20270310T100000
DTEND;TZID=America/Chicago:20270310T120000
DTSTAMP:20260424T173331
CREATED:20250311T183236Z
LAST-MODIFIED:20250311T183238Z
UID:10011987-1804672800-1804680000@www.fcpotawatomi.com
SUMMARY:Language Class
DESCRIPTION:
URL:https://www.fcpotawatomi.com/event/language-class/2027-03-10/
LOCATION:FCP Cultural Center\, Library & Museum\, 8130 Mish Ko Swen Drive\, Crandon\, WI\, 54520\, United States
CATEGORIES:Cultural Center Library & Museum,Main,Tribal Members
END:VEVENT
BEGIN:VEVENT
DTSTART;TZID=America/Chicago:20270317T100000
DTEND;TZID=America/Chicago:20270317T120000
DTSTAMP:20260424T173331
CREATED:20250311T183236Z
LAST-MODIFIED:20250311T183238Z
UID:10011988-1805277600-1805284800@www.fcpotawatomi.com
SUMMARY:Language Class
DESCRIPTION:
URL:https://www.fcpotawatomi.com/event/language-class/2027-03-17/
LOCATION:FCP Cultural Center\, Library & Museum\, 8130 Mish Ko Swen Drive\, Crandon\, WI\, 54520\, United States
CATEGORIES:Cultural Center Library & Museum,Main,Tribal Members
END:VEVENT
BEGIN:VEVENT
DTSTART;TZID=America/Chicago:20270324T100000
DTEND;TZID=America/Chicago:20270324T120000
DTSTAMP:20260424T173331
CREATED:20250311T183236Z
LAST-MODIFIED:20250311T183238Z
UID:10011989-1805882400-1805889600@www.fcpotawatomi.com
SUMMARY:Language Class
DESCRIPTION:
URL:https://www.fcpotawatomi.com/event/language-class/2027-03-24/
LOCATION:FCP Cultural Center\, Library & Museum\, 8130 Mish Ko Swen Drive\, Crandon\, WI\, 54520\, United States
CATEGORIES:Cultural Center Library & Museum,Main,Tribal Members
END:VEVENT
BEGIN:VEVENT
DTSTART;TZID=America/Chicago:20270331T100000
DTEND;TZID=America/Chicago:20270331T120000
DTSTAMP:20260424T173331
CREATED:20250311T183236Z
LAST-MODIFIED:20250311T183238Z
UID:10011990-1806487200-1806494400@www.fcpotawatomi.com
SUMMARY:Language Class
DESCRIPTION:
URL:https://www.fcpotawatomi.com/event/language-class/2027-03-31/
LOCATION:FCP Cultural Center\, Library & Museum\, 8130 Mish Ko Swen Drive\, Crandon\, WI\, 54520\, United States
CATEGORIES:Cultural Center Library & Museum,Main,Tribal Members
END:VEVENT
BEGIN:VEVENT
DTSTART;TZID=America/Chicago:20270407T100000
DTEND;TZID=America/Chicago:20270407T120000
DTSTAMP:20260424T173331
CREATED:20250311T183236Z
LAST-MODIFIED:20250311T183238Z
UID:10011991-1807092000-1807099200@www.fcpotawatomi.com
SUMMARY:Language Class
DESCRIPTION:
URL:https://www.fcpotawatomi.com/event/language-class/2027-04-07/
LOCATION:FCP Cultural Center\, Library & Museum\, 8130 Mish Ko Swen Drive\, Crandon\, WI\, 54520\, United States
CATEGORIES:Cultural Center Library & Museum,Main,Tribal Members
END:VEVENT
BEGIN:VEVENT
DTSTART;TZID=America/Chicago:20270414T100000
DTEND;TZID=America/Chicago:20270414T120000
DTSTAMP:20260424T173331
CREATED:20250311T183236Z
LAST-MODIFIED:20250311T183238Z
UID:10011992-1807696800-1807704000@www.fcpotawatomi.com
SUMMARY:Language Class
DESCRIPTION:
URL:https://www.fcpotawatomi.com/event/language-class/2027-04-14/
LOCATION:FCP Cultural Center\, Library & Museum\, 8130 Mish Ko Swen Drive\, Crandon\, WI\, 54520\, United States
CATEGORIES:Cultural Center Library & Museum,Main,Tribal Members
END:VEVENT
BEGIN:VEVENT
DTSTART;TZID=America/Chicago:20270421T100000
DTEND;TZID=America/Chicago:20270421T120000
DTSTAMP:20260424T173331
CREATED:20250311T183236Z
LAST-MODIFIED:20250311T183238Z
UID:10011993-1808301600-1808308800@www.fcpotawatomi.com
SUMMARY:Language Class
DESCRIPTION:
URL:https://www.fcpotawatomi.com/event/language-class/2027-04-21/
LOCATION:FCP Cultural Center\, Library & Museum\, 8130 Mish Ko Swen Drive\, Crandon\, WI\, 54520\, United States
CATEGORIES:Cultural Center Library & Museum,Main,Tribal Members
END:VEVENT
BEGIN:VEVENT
DTSTART;TZID=America/Chicago:20270428T100000
DTEND;TZID=America/Chicago:20270428T120000
DTSTAMP:20260424T173331
CREATED:20250311T183236Z
LAST-MODIFIED:20250311T183238Z
UID:10011994-1808906400-1808913600@www.fcpotawatomi.com
SUMMARY:Language Class
DESCRIPTION:
URL:https://www.fcpotawatomi.com/event/language-class/2027-04-28/
LOCATION:FCP Cultural Center\, Library & Museum\, 8130 Mish Ko Swen Drive\, Crandon\, WI\, 54520\, United States
CATEGORIES:Cultural Center Library & Museum,Main,Tribal Members
END:VEVENT
END:VCALENDAR