BEGIN:VCALENDAR
VERSION:2.0
PRODID:-//Forest County Potawatomi - ECPv6.15.20//NONSGML v1.0//EN
CALSCALE:GREGORIAN
METHOD:PUBLISH
X-WR-CALNAME:Forest County Potawatomi
X-ORIGINAL-URL:https://www.fcpotawatomi.com
X-WR-CALDESC:Events for Forest County Potawatomi
REFRESH-INTERVAL;VALUE=DURATION:PT1H
X-Robots-Tag:noindex
X-PUBLISHED-TTL:PT1H
BEGIN:VTIMEZONE
TZID:America/Chicago
BEGIN:DAYLIGHT
TZOFFSETFROM:-0600
TZOFFSETTO:-0500
TZNAME:CDT
DTSTART:20250309T080000
END:DAYLIGHT
BEGIN:STANDARD
TZOFFSETFROM:-0500
TZOFFSETTO:-0600
TZNAME:CST
DTSTART:20251102T070000
END:STANDARD
BEGIN:DAYLIGHT
TZOFFSETFROM:-0600
TZOFFSETTO:-0500
TZNAME:CDT
DTSTART:20260308T080000
END:DAYLIGHT
BEGIN:STANDARD
TZOFFSETFROM:-0500
TZOFFSETTO:-0600
TZNAME:CST
DTSTART:20261101T070000
END:STANDARD
BEGIN:DAYLIGHT
TZOFFSETFROM:-0600
TZOFFSETTO:-0500
TZNAME:CDT
DTSTART:20270314T080000
END:DAYLIGHT
BEGIN:STANDARD
TZOFFSETFROM:-0500
TZOFFSETTO:-0600
TZNAME:CST
DTSTART:20271107T070000
END:STANDARD
END:VTIMEZONE
BEGIN:VEVENT
DTSTART;TZID=America/Chicago:20260427T130000
DTEND;TZID=America/Chicago:20260427T140000
DTSTAMP:20260425T091058
CREATED:20260415T194403Z
LAST-MODIFIED:20260415T194407Z
UID:10016229-1777294800-1777298400@www.fcpotawatomi.com
SUMMARY:Wellbriety 12-Step Meeting
DESCRIPTION:
URL:https://www.fcpotawatomi.com/event/wellbriety-12-step-meeting/2026-04-27/
LOCATION:Recovery Resource Center\, 5460 Kat Yot Lane\, crandon\, Wisconsin\, 54520\, United States
CATEGORIES:Health & Wellness Center,Main,Tribal Members
ATTACH;FMTTYPE=image/jpeg:https://www.fcpotawatomi.com/wp-content/uploads/2026/04/124624-PRE-Wellbriety-DS.jpg
END:VEVENT
BEGIN:VEVENT
DTSTART;TZID=America/Chicago:20260429T080000
DTEND;TZID=America/Chicago:20260429T170000
DTSTAMP:20260425T091058
CREATED:20260311T155954Z
LAST-MODIFIED:20260311T155958Z
UID:10015333-1777449600-1777482000@www.fcpotawatomi.com
SUMMARY:Walking the Spectrum
DESCRIPTION:
URL:https://www.fcpotawatomi.com/event/walking-the-spectrum/2026-04-29/
LOCATION:Potawatomi Community Center\, 5471 The Place Where Everyone Plays Rd\, Lincoln\, WI\, 54520\, United States
GEO:45.5710735;-88.8527208
X-APPLE-STRUCTURED-LOCATION;VALUE=URI;X-ADDRESS=Potawatomi Community Center 5471 The Place Where Everyone Plays Rd Lincoln WI 54520 United States;X-APPLE-RADIUS=500;X-TITLE=5471 The Place Where Everyone Plays Rd:geo:-88.8527208,45.5710735
END:VEVENT
BEGIN:VEVENT
DTSTART;TZID=America/Chicago:20260501T080000
DTEND;TZID=America/Chicago:20260501T170000
DTSTAMP:20260425T091058
CREATED:20250630T131149Z
LAST-MODIFIED:20251209T170212Z
UID:10013527-1777622400-1777654800@www.fcpotawatomi.com
SUMMARY:Smudge Talk
DESCRIPTION:
URL:https://www.fcpotawatomi.com/event/smudge-talk/2026-05-01/
LOCATION:Recovery Resource Center\, 5460 Kat Yot Lane\, crandon\, Wisconsin\, 54520\, United States
CATEGORIES:Health & Wellness Center,Main,Tribal Members
ATTACH;FMTTYPE=image/jpeg:https://www.fcpotawatomi.com/wp-content/uploads/2025/06/68456-HWBH-SmudgeTalkFLYR-pdf-cropped.jpg
END:VEVENT
BEGIN:VEVENT
DTSTART;TZID=America/Chicago:20260504T130000
DTEND;TZID=America/Chicago:20260504T140000
DTSTAMP:20260425T091058
CREATED:20260415T194403Z
LAST-MODIFIED:20260415T194407Z
UID:10016230-1777899600-1777903200@www.fcpotawatomi.com
SUMMARY:Wellbriety 12-Step Meeting
DESCRIPTION:
URL:https://www.fcpotawatomi.com/event/wellbriety-12-step-meeting/2026-05-04/
LOCATION:Recovery Resource Center\, 5460 Kat Yot Lane\, crandon\, Wisconsin\, 54520\, United States
CATEGORIES:Health & Wellness Center,Main,Tribal Members
ATTACH;FMTTYPE=image/jpeg:https://www.fcpotawatomi.com/wp-content/uploads/2026/04/124624-PRE-Wellbriety-DS.jpg
END:VEVENT
BEGIN:VEVENT
DTSTART;TZID=America/Chicago:20260506T080000
DTEND;TZID=America/Chicago:20260506T170000
DTSTAMP:20260425T091058
CREATED:20260311T155954Z
LAST-MODIFIED:20260311T155958Z
UID:10015334-1778054400-1778086800@www.fcpotawatomi.com
SUMMARY:Walking the Spectrum
DESCRIPTION:
URL:https://www.fcpotawatomi.com/event/walking-the-spectrum/2026-05-06/
LOCATION:Potawatomi Community Center\, 5471 The Place Where Everyone Plays Rd\, Lincoln\, WI\, 54520\, United States
GEO:45.5710735;-88.8527208
X-APPLE-STRUCTURED-LOCATION;VALUE=URI;X-ADDRESS=Potawatomi Community Center 5471 The Place Where Everyone Plays Rd Lincoln WI 54520 United States;X-APPLE-RADIUS=500;X-TITLE=5471 The Place Where Everyone Plays Rd:geo:-88.8527208,45.5710735
END:VEVENT
BEGIN:VEVENT
DTSTART;TZID=America/Chicago:20260508T080000
DTEND;TZID=America/Chicago:20260508T170000
DTSTAMP:20260425T091058
CREATED:20250630T131149Z
LAST-MODIFIED:20251209T170212Z
UID:10013528-1778227200-1778259600@www.fcpotawatomi.com
SUMMARY:Smudge Talk
DESCRIPTION:
URL:https://www.fcpotawatomi.com/event/smudge-talk/2026-05-08/
LOCATION:Recovery Resource Center\, 5460 Kat Yot Lane\, crandon\, Wisconsin\, 54520\, United States
CATEGORIES:Health & Wellness Center,Main,Tribal Members
ATTACH;FMTTYPE=image/jpeg:https://www.fcpotawatomi.com/wp-content/uploads/2025/06/68456-HWBH-SmudgeTalkFLYR-pdf-cropped.jpg
END:VEVENT
BEGIN:VEVENT
DTSTART;TZID=America/Chicago:20260511T130000
DTEND;TZID=America/Chicago:20260511T140000
DTSTAMP:20260425T091058
CREATED:20260415T194403Z
LAST-MODIFIED:20260415T194407Z
UID:10016231-1778504400-1778508000@www.fcpotawatomi.com
SUMMARY:Wellbriety 12-Step Meeting
DESCRIPTION:
URL:https://www.fcpotawatomi.com/event/wellbriety-12-step-meeting/2026-05-11/
LOCATION:Recovery Resource Center\, 5460 Kat Yot Lane\, crandon\, Wisconsin\, 54520\, United States
CATEGORIES:Health & Wellness Center,Main,Tribal Members
ATTACH;FMTTYPE=image/jpeg:https://www.fcpotawatomi.com/wp-content/uploads/2026/04/124624-PRE-Wellbriety-DS.jpg
END:VEVENT
BEGIN:VEVENT
DTSTART;TZID=America/Chicago:20260513T080000
DTEND;TZID=America/Chicago:20260513T170000
DTSTAMP:20260425T091058
CREATED:20260311T155954Z
LAST-MODIFIED:20260311T155958Z
UID:10015335-1778659200-1778691600@www.fcpotawatomi.com
SUMMARY:Walking the Spectrum
DESCRIPTION:
URL:https://www.fcpotawatomi.com/event/walking-the-spectrum/2026-05-13/
LOCATION:Potawatomi Community Center\, 5471 The Place Where Everyone Plays Rd\, Lincoln\, WI\, 54520\, United States
GEO:45.5710735;-88.8527208
X-APPLE-STRUCTURED-LOCATION;VALUE=URI;X-ADDRESS=Potawatomi Community Center 5471 The Place Where Everyone Plays Rd Lincoln WI 54520 United States;X-APPLE-RADIUS=500;X-TITLE=5471 The Place Where Everyone Plays Rd:geo:-88.8527208,45.5710735
END:VEVENT
BEGIN:VEVENT
DTSTART;TZID=America/Chicago:20260515T080000
DTEND;TZID=America/Chicago:20260515T170000
DTSTAMP:20260425T091058
CREATED:20250630T131149Z
LAST-MODIFIED:20251209T170212Z
UID:10013529-1778832000-1778864400@www.fcpotawatomi.com
SUMMARY:Smudge Talk
DESCRIPTION:
URL:https://www.fcpotawatomi.com/event/smudge-talk/2026-05-15/
LOCATION:Recovery Resource Center\, 5460 Kat Yot Lane\, crandon\, Wisconsin\, 54520\, United States
CATEGORIES:Health & Wellness Center,Main,Tribal Members
ATTACH;FMTTYPE=image/jpeg:https://www.fcpotawatomi.com/wp-content/uploads/2025/06/68456-HWBH-SmudgeTalkFLYR-pdf-cropped.jpg
END:VEVENT
BEGIN:VEVENT
DTSTART;TZID=America/Chicago:20260518T130000
DTEND;TZID=America/Chicago:20260518T140000
DTSTAMP:20260425T091058
CREATED:20260415T194403Z
LAST-MODIFIED:20260415T194407Z
UID:10016232-1779109200-1779112800@www.fcpotawatomi.com
SUMMARY:Wellbriety 12-Step Meeting
DESCRIPTION:
URL:https://www.fcpotawatomi.com/event/wellbriety-12-step-meeting/2026-05-18/
LOCATION:Recovery Resource Center\, 5460 Kat Yot Lane\, crandon\, Wisconsin\, 54520\, United States
CATEGORIES:Health & Wellness Center,Main,Tribal Members
ATTACH;FMTTYPE=image/jpeg:https://www.fcpotawatomi.com/wp-content/uploads/2026/04/124624-PRE-Wellbriety-DS.jpg
END:VEVENT
BEGIN:VEVENT
DTSTART;TZID=America/Chicago:20260520T080000
DTEND;TZID=America/Chicago:20260520T170000
DTSTAMP:20260425T091058
CREATED:20260311T155954Z
LAST-MODIFIED:20260311T155958Z
UID:10015336-1779264000-1779296400@www.fcpotawatomi.com
SUMMARY:Walking the Spectrum
DESCRIPTION:
URL:https://www.fcpotawatomi.com/event/walking-the-spectrum/2026-05-20/
LOCATION:Potawatomi Community Center\, 5471 The Place Where Everyone Plays Rd\, Lincoln\, WI\, 54520\, United States
GEO:45.5710735;-88.8527208
X-APPLE-STRUCTURED-LOCATION;VALUE=URI;X-ADDRESS=Potawatomi Community Center 5471 The Place Where Everyone Plays Rd Lincoln WI 54520 United States;X-APPLE-RADIUS=500;X-TITLE=5471 The Place Where Everyone Plays Rd:geo:-88.8527208,45.5710735
END:VEVENT
BEGIN:VEVENT
DTSTART;TZID=America/Chicago:20260522T080000
DTEND;TZID=America/Chicago:20260522T170000
DTSTAMP:20260425T091058
CREATED:20250630T131149Z
LAST-MODIFIED:20251209T170212Z
UID:10013530-1779436800-1779469200@www.fcpotawatomi.com
SUMMARY:Smudge Talk
DESCRIPTION:
URL:https://www.fcpotawatomi.com/event/smudge-talk/2026-05-22/
LOCATION:Recovery Resource Center\, 5460 Kat Yot Lane\, crandon\, Wisconsin\, 54520\, United States
CATEGORIES:Health & Wellness Center,Main,Tribal Members
ATTACH;FMTTYPE=image/jpeg:https://www.fcpotawatomi.com/wp-content/uploads/2025/06/68456-HWBH-SmudgeTalkFLYR-pdf-cropped.jpg
END:VEVENT
BEGIN:VEVENT
DTSTART;TZID=America/Chicago:20260525T130000
DTEND;TZID=America/Chicago:20260525T140000
DTSTAMP:20260425T091058
CREATED:20260415T194403Z
LAST-MODIFIED:20260415T194407Z
UID:10016233-1779714000-1779717600@www.fcpotawatomi.com
SUMMARY:Wellbriety 12-Step Meeting
DESCRIPTION:
URL:https://www.fcpotawatomi.com/event/wellbriety-12-step-meeting/2026-05-25/
LOCATION:Recovery Resource Center\, 5460 Kat Yot Lane\, crandon\, Wisconsin\, 54520\, United States
CATEGORIES:Health & Wellness Center,Main,Tribal Members
ATTACH;FMTTYPE=image/jpeg:https://www.fcpotawatomi.com/wp-content/uploads/2026/04/124624-PRE-Wellbriety-DS.jpg
END:VEVENT
BEGIN:VEVENT
DTSTART;TZID=America/Chicago:20260527T080000
DTEND;TZID=America/Chicago:20260527T170000
DTSTAMP:20260425T091058
CREATED:20260311T155954Z
LAST-MODIFIED:20260311T155958Z
UID:10015337-1779868800-1779901200@www.fcpotawatomi.com
SUMMARY:Walking the Spectrum
DESCRIPTION:
URL:https://www.fcpotawatomi.com/event/walking-the-spectrum/2026-05-27/
LOCATION:Potawatomi Community Center\, 5471 The Place Where Everyone Plays Rd\, Lincoln\, WI\, 54520\, United States
GEO:45.5710735;-88.8527208
X-APPLE-STRUCTURED-LOCATION;VALUE=URI;X-ADDRESS=Potawatomi Community Center 5471 The Place Where Everyone Plays Rd Lincoln WI 54520 United States;X-APPLE-RADIUS=500;X-TITLE=5471 The Place Where Everyone Plays Rd:geo:-88.8527208,45.5710735
END:VEVENT
BEGIN:VEVENT
DTSTART;TZID=America/Chicago:20260529T080000
DTEND;TZID=America/Chicago:20260529T170000
DTSTAMP:20260425T091058
CREATED:20250630T131149Z
LAST-MODIFIED:20251209T170212Z
UID:10013531-1780041600-1780074000@www.fcpotawatomi.com
SUMMARY:Smudge Talk
DESCRIPTION:
URL:https://www.fcpotawatomi.com/event/smudge-talk/2026-05-29/
LOCATION:Recovery Resource Center\, 5460 Kat Yot Lane\, crandon\, Wisconsin\, 54520\, United States
CATEGORIES:Health & Wellness Center,Main,Tribal Members
ATTACH;FMTTYPE=image/jpeg:https://www.fcpotawatomi.com/wp-content/uploads/2025/06/68456-HWBH-SmudgeTalkFLYR-pdf-cropped.jpg
END:VEVENT
BEGIN:VEVENT
DTSTART;TZID=America/Chicago:20260601T130000
DTEND;TZID=America/Chicago:20260601T140000
DTSTAMP:20260425T091058
CREATED:20260415T194403Z
LAST-MODIFIED:20260415T194407Z
UID:10016234-1780318800-1780322400@www.fcpotawatomi.com
SUMMARY:Wellbriety 12-Step Meeting
DESCRIPTION:
URL:https://www.fcpotawatomi.com/event/wellbriety-12-step-meeting/2026-06-01/
LOCATION:Recovery Resource Center\, 5460 Kat Yot Lane\, crandon\, Wisconsin\, 54520\, United States
CATEGORIES:Health & Wellness Center,Main,Tribal Members
ATTACH;FMTTYPE=image/jpeg:https://www.fcpotawatomi.com/wp-content/uploads/2026/04/124624-PRE-Wellbriety-DS.jpg
END:VEVENT
BEGIN:VEVENT
DTSTART;TZID=America/Chicago:20260603T080000
DTEND;TZID=America/Chicago:20260603T170000
DTSTAMP:20260425T091058
CREATED:20260311T155954Z
LAST-MODIFIED:20260311T155958Z
UID:10015338-1780473600-1780506000@www.fcpotawatomi.com
SUMMARY:Walking the Spectrum
DESCRIPTION:
URL:https://www.fcpotawatomi.com/event/walking-the-spectrum/2026-06-03/
LOCATION:Potawatomi Community Center\, 5471 The Place Where Everyone Plays Rd\, Lincoln\, WI\, 54520\, United States
GEO:45.5710735;-88.8527208
X-APPLE-STRUCTURED-LOCATION;VALUE=URI;X-ADDRESS=Potawatomi Community Center 5471 The Place Where Everyone Plays Rd Lincoln WI 54520 United States;X-APPLE-RADIUS=500;X-TITLE=5471 The Place Where Everyone Plays Rd:geo:-88.8527208,45.5710735
END:VEVENT
BEGIN:VEVENT
DTSTART;TZID=America/Chicago:20260605T080000
DTEND;TZID=America/Chicago:20260605T170000
DTSTAMP:20260425T091058
CREATED:20250630T131149Z
LAST-MODIFIED:20251209T170212Z
UID:10013532-1780646400-1780678800@www.fcpotawatomi.com
SUMMARY:Smudge Talk
DESCRIPTION:
URL:https://www.fcpotawatomi.com/event/smudge-talk/2026-06-05/
LOCATION:Recovery Resource Center\, 5460 Kat Yot Lane\, crandon\, Wisconsin\, 54520\, United States
CATEGORIES:Health & Wellness Center,Main,Tribal Members
ATTACH;FMTTYPE=image/jpeg:https://www.fcpotawatomi.com/wp-content/uploads/2025/06/68456-HWBH-SmudgeTalkFLYR-pdf-cropped.jpg
END:VEVENT
BEGIN:VEVENT
DTSTART;TZID=America/Chicago:20260608T130000
DTEND;TZID=America/Chicago:20260608T140000
DTSTAMP:20260425T091058
CREATED:20260415T194403Z
LAST-MODIFIED:20260415T194407Z
UID:10016235-1780923600-1780927200@www.fcpotawatomi.com
SUMMARY:Wellbriety 12-Step Meeting
DESCRIPTION:
URL:https://www.fcpotawatomi.com/event/wellbriety-12-step-meeting/2026-06-08/
LOCATION:Recovery Resource Center\, 5460 Kat Yot Lane\, crandon\, Wisconsin\, 54520\, United States
CATEGORIES:Health & Wellness Center,Main,Tribal Members
ATTACH;FMTTYPE=image/jpeg:https://www.fcpotawatomi.com/wp-content/uploads/2026/04/124624-PRE-Wellbriety-DS.jpg
END:VEVENT
BEGIN:VEVENT
DTSTART;TZID=America/Chicago:20260610T080000
DTEND;TZID=America/Chicago:20260610T170000
DTSTAMP:20260425T091058
CREATED:20260311T155954Z
LAST-MODIFIED:20260311T155958Z
UID:10015339-1781078400-1781110800@www.fcpotawatomi.com
SUMMARY:Walking the Spectrum
DESCRIPTION:
URL:https://www.fcpotawatomi.com/event/walking-the-spectrum/2026-06-10/
LOCATION:Potawatomi Community Center\, 5471 The Place Where Everyone Plays Rd\, Lincoln\, WI\, 54520\, United States
GEO:45.5710735;-88.8527208
X-APPLE-STRUCTURED-LOCATION;VALUE=URI;X-ADDRESS=Potawatomi Community Center 5471 The Place Where Everyone Plays Rd Lincoln WI 54520 United States;X-APPLE-RADIUS=500;X-TITLE=5471 The Place Where Everyone Plays Rd:geo:-88.8527208,45.5710735
END:VEVENT
BEGIN:VEVENT
DTSTART;TZID=America/Chicago:20260612T080000
DTEND;TZID=America/Chicago:20260612T170000
DTSTAMP:20260425T091058
CREATED:20250630T131149Z
LAST-MODIFIED:20251209T170212Z
UID:10013533-1781251200-1781283600@www.fcpotawatomi.com
SUMMARY:Smudge Talk
DESCRIPTION:
URL:https://www.fcpotawatomi.com/event/smudge-talk/2026-06-12/
LOCATION:Recovery Resource Center\, 5460 Kat Yot Lane\, crandon\, Wisconsin\, 54520\, United States
CATEGORIES:Health & Wellness Center,Main,Tribal Members
ATTACH;FMTTYPE=image/jpeg:https://www.fcpotawatomi.com/wp-content/uploads/2025/06/68456-HWBH-SmudgeTalkFLYR-pdf-cropped.jpg
END:VEVENT
BEGIN:VEVENT
DTSTART;TZID=America/Chicago:20260615T130000
DTEND;TZID=America/Chicago:20260615T140000
DTSTAMP:20260425T091058
CREATED:20260415T194403Z
LAST-MODIFIED:20260415T194407Z
UID:10016236-1781528400-1781532000@www.fcpotawatomi.com
SUMMARY:Wellbriety 12-Step Meeting
DESCRIPTION:
URL:https://www.fcpotawatomi.com/event/wellbriety-12-step-meeting/2026-06-15/
LOCATION:Recovery Resource Center\, 5460 Kat Yot Lane\, crandon\, Wisconsin\, 54520\, United States
CATEGORIES:Health & Wellness Center,Main,Tribal Members
ATTACH;FMTTYPE=image/jpeg:https://www.fcpotawatomi.com/wp-content/uploads/2026/04/124624-PRE-Wellbriety-DS.jpg
END:VEVENT
BEGIN:VEVENT
DTSTART;TZID=America/Chicago:20260616T113000
DTEND;TZID=America/Chicago:20260616T143000
DTSTAMP:20260425T091058
CREATED:20260319T133853Z
LAST-MODIFIED:20260319T133857Z
UID:10016123-1781609400-1781620200@www.fcpotawatomi.com
SUMMARY:Penthés Project Summer Family Picnic
DESCRIPTION:
URL:https://www.fcpotawatomi.com/event/penthes-project-summer-family-picnic/
LOCATION:Potawatomi Community Center\, 5471 The Place Where Everyone Plays Rd\, Lincoln\, WI\, 54520\, United States
CATEGORIES:Community Center,Health & Wellness Center
ATTACH;FMTTYPE=image/jpeg:https://www.fcpotawatomi.com/wp-content/uploads/2026/03/126812-HWAS-SummerFamPicnic-DS.jpg
GEO:45.5710735;-88.8527208
X-APPLE-STRUCTURED-LOCATION;VALUE=URI;X-ADDRESS=Potawatomi Community Center 5471 The Place Where Everyone Plays Rd Lincoln WI 54520 United States;X-APPLE-RADIUS=500;X-TITLE=5471 The Place Where Everyone Plays Rd:geo:-88.8527208,45.5710735
END:VEVENT
BEGIN:VEVENT
DTSTART;TZID=America/Chicago:20260617T080000
DTEND;TZID=America/Chicago:20260617T170000
DTSTAMP:20260425T091058
CREATED:20260311T155954Z
LAST-MODIFIED:20260311T155958Z
UID:10015340-1781683200-1781715600@www.fcpotawatomi.com
SUMMARY:Walking the Spectrum
DESCRIPTION:
URL:https://www.fcpotawatomi.com/event/walking-the-spectrum/2026-06-17/
LOCATION:Potawatomi Community Center\, 5471 The Place Where Everyone Plays Rd\, Lincoln\, WI\, 54520\, United States
GEO:45.5710735;-88.8527208
X-APPLE-STRUCTURED-LOCATION;VALUE=URI;X-ADDRESS=Potawatomi Community Center 5471 The Place Where Everyone Plays Rd Lincoln WI 54520 United States;X-APPLE-RADIUS=500;X-TITLE=5471 The Place Where Everyone Plays Rd:geo:-88.8527208,45.5710735
END:VEVENT
BEGIN:VEVENT
DTSTART;TZID=America/Chicago:20260617T180000
DTEND;TZID=America/Chicago:20260617T200000
DTSTAMP:20260425T091058
CREATED:20260413T142912Z
LAST-MODIFIED:20260413T142914Z
UID:10016175-1781719200-1781726400@www.fcpotawatomi.com
SUMMARY:Community Sobriety Feast
DESCRIPTION:
URL:https://www.fcpotawatomi.com/event/community-sobriety-feast/
LOCATION:FCP Cultural Center\, Library & Museum\, 8130 Mish Ko Swen Drive\, Crandon\, WI\, 54520\, United States
CATEGORIES:Health & Wellness Center,Main,Tribal Members
ATTACH;FMTTYPE=image/jpeg:https://www.fcpotawatomi.com/wp-content/uploads/2026/04/129595-HWPR-JUNESobrietyFeastFLYR-1-scaled-cropped.jpg
END:VEVENT
BEGIN:VEVENT
DTSTART;TZID=America/Chicago:20260619T080000
DTEND;TZID=America/Chicago:20260619T170000
DTSTAMP:20260425T091058
CREATED:20250630T131149Z
LAST-MODIFIED:20251209T170212Z
UID:10013534-1781856000-1781888400@www.fcpotawatomi.com
SUMMARY:Smudge Talk
DESCRIPTION:
URL:https://www.fcpotawatomi.com/event/smudge-talk/2026-06-19/
LOCATION:Recovery Resource Center\, 5460 Kat Yot Lane\, crandon\, Wisconsin\, 54520\, United States
CATEGORIES:Health & Wellness Center,Main,Tribal Members
ATTACH;FMTTYPE=image/jpeg:https://www.fcpotawatomi.com/wp-content/uploads/2025/06/68456-HWBH-SmudgeTalkFLYR-pdf-cropped.jpg
END:VEVENT
BEGIN:VEVENT
DTSTART;TZID=America/Chicago:20260622T130000
DTEND;TZID=America/Chicago:20260622T140000
DTSTAMP:20260425T091058
CREATED:20260415T194403Z
LAST-MODIFIED:20260415T194407Z
UID:10016237-1782133200-1782136800@www.fcpotawatomi.com
SUMMARY:Wellbriety 12-Step Meeting
DESCRIPTION:
URL:https://www.fcpotawatomi.com/event/wellbriety-12-step-meeting/2026-06-22/
LOCATION:Recovery Resource Center\, 5460 Kat Yot Lane\, crandon\, Wisconsin\, 54520\, United States
CATEGORIES:Health & Wellness Center,Main,Tribal Members
ATTACH;FMTTYPE=image/jpeg:https://www.fcpotawatomi.com/wp-content/uploads/2026/04/124624-PRE-Wellbriety-DS.jpg
END:VEVENT
BEGIN:VEVENT
DTSTART;TZID=America/Chicago:20260624T080000
DTEND;TZID=America/Chicago:20260624T170000
DTSTAMP:20260425T091058
CREATED:20260311T155954Z
LAST-MODIFIED:20260311T155958Z
UID:10015341-1782288000-1782320400@www.fcpotawatomi.com
SUMMARY:Walking the Spectrum
DESCRIPTION:
URL:https://www.fcpotawatomi.com/event/walking-the-spectrum/2026-06-24/
LOCATION:Potawatomi Community Center\, 5471 The Place Where Everyone Plays Rd\, Lincoln\, WI\, 54520\, United States
GEO:45.5710735;-88.8527208
X-APPLE-STRUCTURED-LOCATION;VALUE=URI;X-ADDRESS=Potawatomi Community Center 5471 The Place Where Everyone Plays Rd Lincoln WI 54520 United States;X-APPLE-RADIUS=500;X-TITLE=5471 The Place Where Everyone Plays Rd:geo:-88.8527208,45.5710735
END:VEVENT
BEGIN:VEVENT
DTSTART;TZID=America/Chicago:20260626T080000
DTEND;TZID=America/Chicago:20260626T170000
DTSTAMP:20260425T091058
CREATED:20250630T131149Z
LAST-MODIFIED:20251209T170212Z
UID:10013535-1782460800-1782493200@www.fcpotawatomi.com
SUMMARY:Smudge Talk
DESCRIPTION:
URL:https://www.fcpotawatomi.com/event/smudge-talk/2026-06-26/
LOCATION:Recovery Resource Center\, 5460 Kat Yot Lane\, crandon\, Wisconsin\, 54520\, United States
CATEGORIES:Health & Wellness Center,Main,Tribal Members
ATTACH;FMTTYPE=image/jpeg:https://www.fcpotawatomi.com/wp-content/uploads/2025/06/68456-HWBH-SmudgeTalkFLYR-pdf-cropped.jpg
END:VEVENT
BEGIN:VEVENT
DTSTART;TZID=America/Chicago:20260629T130000
DTEND;TZID=America/Chicago:20260629T140000
DTSTAMP:20260425T091058
CREATED:20260415T194403Z
LAST-MODIFIED:20260415T194407Z
UID:10016238-1782738000-1782741600@www.fcpotawatomi.com
SUMMARY:Wellbriety 12-Step Meeting
DESCRIPTION:
URL:https://www.fcpotawatomi.com/event/wellbriety-12-step-meeting/2026-06-29/
LOCATION:Recovery Resource Center\, 5460 Kat Yot Lane\, crandon\, Wisconsin\, 54520\, United States
CATEGORIES:Health & Wellness Center,Main,Tribal Members
ATTACH;FMTTYPE=image/jpeg:https://www.fcpotawatomi.com/wp-content/uploads/2026/04/124624-PRE-Wellbriety-DS.jpg
END:VEVENT
END:VCALENDAR