BEGIN:VCALENDAR
VERSION:2.0
PRODID:-//Forest County Potawatomi - ECPv6.15.20//NONSGML v1.0//EN
CALSCALE:GREGORIAN
METHOD:PUBLISH
X-ORIGINAL-URL:https://www.fcpotawatomi.com
X-WR-CALDESC:Events for Forest County Potawatomi
REFRESH-INTERVAL;VALUE=DURATION:PT1H
X-Robots-Tag:noindex
X-PUBLISHED-TTL:PT1H
BEGIN:VTIMEZONE
TZID:America/Chicago
BEGIN:DAYLIGHT
TZOFFSETFROM:-0600
TZOFFSETTO:-0500
TZNAME:CDT
DTSTART:20270314T080000
END:DAYLIGHT
BEGIN:STANDARD
TZOFFSETFROM:-0500
TZOFFSETTO:-0600
TZNAME:CST
DTSTART:20271107T070000
END:STANDARD
BEGIN:DAYLIGHT
TZOFFSETFROM:-0600
TZOFFSETTO:-0500
TZNAME:CDT
DTSTART:20280312T080000
END:DAYLIGHT
BEGIN:STANDARD
TZOFFSETFROM:-0500
TZOFFSETTO:-0600
TZNAME:CST
DTSTART:20281105T070000
END:STANDARD
BEGIN:DAYLIGHT
TZOFFSETFROM:-0600
TZOFFSETTO:-0500
TZNAME:CDT
DTSTART:20290311T080000
END:DAYLIGHT
BEGIN:STANDARD
TZOFFSETFROM:-0500
TZOFFSETTO:-0600
TZNAME:CST
DTSTART:20291104T070000
END:STANDARD
END:VTIMEZONE
BEGIN:VEVENT
DTSTART;TZID=America/Chicago:20281116T160000
DTEND;TZID=America/Chicago:20281116T180000
DTSTAMP:20260420T114541
CREATED:20250311T185547Z
LAST-MODIFIED:20250311T185904Z
UID:10012442-1858003200-1858010400@www.fcpotawatomi.com
SUMMARY:Friends & Family Support Circle
DESCRIPTION:
URL:https://www.fcpotawatomi.com/event/friends-family-support-circle-2/2028-11-16/
LOCATION:FCP Tribal Hall\, 8000 Potawatomi Trail\, Crandon\, WI\, United States
CATEGORIES:Behavioral Health,Main,Tribal Members
ATTACH;FMTTYPE=image/jpeg:https://www.fcpotawatomi.com/wp-content/uploads/2025/03/57122-HWBH-FamiliesFriendsSuppCircle-FLYR-scaled-cropped.jpg
END:VEVENT
BEGIN:VEVENT
DTSTART;TZID=America/Chicago:20281116T173000
DTEND;TZID=America/Chicago:20281116T203000
DTSTAMP:20260420T114541
CREATED:20250414T153522Z
LAST-MODIFIED:20250414T153524Z
UID:10012847-1858008600-1858019400@www.fcpotawatomi.com
SUMMARY:Talking Circle
DESCRIPTION:
URL:https://www.fcpotawatomi.com/event/talking-circle/2028-11-16/
LOCATION:Recovery Resource Center\, 5460 Kat Yot Lane\, crandon\, Wisconsin\, 54520\, United States
CATEGORIES:Behavioral Health,Main,Tribal Members
ATTACH;FMTTYPE=image/jpeg:https://www.fcpotawatomi.com/wp-content/uploads/2025/04/62079-HWBH-TalkingCircleFLYR-pdf-cropped.jpg
END:VEVENT
BEGIN:VEVENT
DTSTART;TZID=America/Chicago:20281117T080000
DTEND;TZID=America/Chicago:20281117T170000
DTSTAMP:20260420T114541
CREATED:20250630T131149Z
LAST-MODIFIED:20251209T170212Z
UID:10013660-1858060800-1858093200@www.fcpotawatomi.com
SUMMARY:Smudge Talk
DESCRIPTION:
URL:https://www.fcpotawatomi.com/event/smudge-talk/2028-11-17/
LOCATION:Recovery Resource Center\, 5460 Kat Yot Lane\, crandon\, Wisconsin\, 54520\, United States
CATEGORIES:Health & Wellness Center,Main,Tribal Members
ATTACH;FMTTYPE=image/jpeg:https://www.fcpotawatomi.com/wp-content/uploads/2025/06/68456-HWBH-SmudgeTalkFLYR-pdf-cropped.jpg
END:VEVENT
BEGIN:VEVENT
DTSTART;TZID=America/Chicago:20281117T080000
DTEND;TZID=America/Chicago:20281117T170000
DTSTAMP:20260420T114541
CREATED:20260311T191920Z
LAST-MODIFIED:20260311T191923Z
UID:10015991-1858060800-1858093200@www.fcpotawatomi.com
SUMMARY:Alcoholics Anonymous
DESCRIPTION:
URL:https://www.fcpotawatomi.com/event/alcoholics-anonymous/2028-11-17/
LOCATION:Recovery Resource Center\, 5460 Kat Yot Lane\, crandon\, Wisconsin\, 54520\, United States
CATEGORIES:Behavioral Health,Main,Tribal Members
ATTACH;FMTTYPE=image/jpeg:https://www.fcpotawatomi.com/wp-content/uploads/2026/03/125403-HWBH-AlcoholAnon-DS.jpg
END:VEVENT
BEGIN:VEVENT
DTSTART;TZID=America/Chicago:20281120T163000
DTEND;TZID=America/Chicago:20281120T180000
DTSTAMP:20260420T114541
CREATED:20251006T181709Z
LAST-MODIFIED:20251006T181737Z
UID:10014231-1858350600-1858356000@www.fcpotawatomi.com
SUMMARY:Powwow Club
DESCRIPTION:
URL:https://www.fcpotawatomi.com/event/powwow-club-2/2028-11-20/
LOCATION:WI
CATEGORIES:Community Center,Cultural Center Library & Museum,Main,Tribal Members
ATTACH;FMTTYPE=image/jpeg:https://www.fcpotawatomi.com/wp-content/uploads/2025/03/54222-CUL-PowWowClubFLYR-pdf-cropped.jpg
END:VEVENT
BEGIN:VEVENT
DTSTART;TZID=America/Chicago:20281121T090000
DTEND;TZID=America/Chicago:20281121T110000
DTSTAMP:20260420T114541
CREATED:20250422T153723Z
LAST-MODIFIED:20250422T153725Z
UID:10013133-1858410000-1858417200@www.fcpotawatomi.com
SUMMARY:Inspiration Station
DESCRIPTION:
URL:https://www.fcpotawatomi.com/event/inspiration-station/2028-11-21/
LOCATION:Recovery Resource Center\, 5460 Kat Yot Lane\, crandon\, Wisconsin\, 54520\, United States
CATEGORIES:Behavioral Health,Main,Tribal Members
ATTACH;FMTTYPE=image/jpeg:https://www.fcpotawatomi.com/wp-content/uploads/2025/04/19069191703-scaled-cropped.jpg
END:VEVENT
BEGIN:VEVENT
DTSTART;TZID=America/Chicago:20281122T080000
DTEND;TZID=America/Chicago:20281122T170000
DTSTAMP:20260420T114541
CREATED:20260311T155954Z
LAST-MODIFIED:20260311T155958Z
UID:10015467-1858492800-1858525200@www.fcpotawatomi.com
SUMMARY:Walking the Spectrum
DESCRIPTION:
URL:https://www.fcpotawatomi.com/event/walking-the-spectrum/2028-11-22/
LOCATION:Potawatomi Community Center\, 5471 The Place Where Everyone Plays Rd\, Lincoln\, WI\, 54520\, United States
GEO:45.5710735;-88.8527208
X-APPLE-STRUCTURED-LOCATION;VALUE=URI;X-ADDRESS=Potawatomi Community Center 5471 The Place Where Everyone Plays Rd Lincoln WI 54520 United States;X-APPLE-RADIUS=500;X-TITLE=5471 The Place Where Everyone Plays Rd:geo:-88.8527208,45.5710735
END:VEVENT
BEGIN:VEVENT
DTSTART;TZID=America/Chicago:20281122T100000
DTEND;TZID=America/Chicago:20281122T120000
DTSTAMP:20260420T114541
CREATED:20250311T183236Z
LAST-MODIFIED:20250311T183238Z
UID:10012076-1858500000-1858507200@www.fcpotawatomi.com
SUMMARY:Language Class
DESCRIPTION:
URL:https://www.fcpotawatomi.com/event/language-class/2028-11-22/
LOCATION:FCP Cultural Center\, Library & Museum\, 8130 Mish Ko Swen Drive\, Crandon\, WI\, 54520\, United States
CATEGORIES:Cultural Center Library & Museum,Main,Tribal Members
END:VEVENT
BEGIN:VEVENT
DTSTART;TZID=America/Chicago:20281123T160000
DTEND;TZID=America/Chicago:20281123T180000
DTSTAMP:20260420T114541
CREATED:20250311T185547Z
LAST-MODIFIED:20250311T185904Z
UID:10012443-1858608000-1858615200@www.fcpotawatomi.com
SUMMARY:Friends & Family Support Circle
DESCRIPTION:
URL:https://www.fcpotawatomi.com/event/friends-family-support-circle-2/2028-11-23/
LOCATION:FCP Tribal Hall\, 8000 Potawatomi Trail\, Crandon\, WI\, United States
CATEGORIES:Behavioral Health,Main,Tribal Members
ATTACH;FMTTYPE=image/jpeg:https://www.fcpotawatomi.com/wp-content/uploads/2025/03/57122-HWBH-FamiliesFriendsSuppCircle-FLYR-scaled-cropped.jpg
END:VEVENT
BEGIN:VEVENT
DTSTART;TZID=America/Chicago:20281123T173000
DTEND;TZID=America/Chicago:20281123T203000
DTSTAMP:20260420T114541
CREATED:20250414T153522Z
LAST-MODIFIED:20250414T153524Z
UID:10012848-1858613400-1858624200@www.fcpotawatomi.com
SUMMARY:Talking Circle
DESCRIPTION:
URL:https://www.fcpotawatomi.com/event/talking-circle/2028-11-23/
LOCATION:Recovery Resource Center\, 5460 Kat Yot Lane\, crandon\, Wisconsin\, 54520\, United States
CATEGORIES:Behavioral Health,Main,Tribal Members
ATTACH;FMTTYPE=image/jpeg:https://www.fcpotawatomi.com/wp-content/uploads/2025/04/62079-HWBH-TalkingCircleFLYR-pdf-cropped.jpg
END:VEVENT
BEGIN:VEVENT
DTSTART;TZID=America/Chicago:20281124T080000
DTEND;TZID=America/Chicago:20281124T170000
DTSTAMP:20260420T114541
CREATED:20250630T131149Z
LAST-MODIFIED:20251209T170212Z
UID:10013661-1858665600-1858698000@www.fcpotawatomi.com
SUMMARY:Smudge Talk
DESCRIPTION:
URL:https://www.fcpotawatomi.com/event/smudge-talk/2028-11-24/
LOCATION:Recovery Resource Center\, 5460 Kat Yot Lane\, crandon\, Wisconsin\, 54520\, United States
CATEGORIES:Health & Wellness Center,Main,Tribal Members
ATTACH;FMTTYPE=image/jpeg:https://www.fcpotawatomi.com/wp-content/uploads/2025/06/68456-HWBH-SmudgeTalkFLYR-pdf-cropped.jpg
END:VEVENT
BEGIN:VEVENT
DTSTART;TZID=America/Chicago:20281124T080000
DTEND;TZID=America/Chicago:20281124T170000
DTSTAMP:20260420T114541
CREATED:20260311T191920Z
LAST-MODIFIED:20260311T191923Z
UID:10015992-1858665600-1858698000@www.fcpotawatomi.com
SUMMARY:Alcoholics Anonymous
DESCRIPTION:
URL:https://www.fcpotawatomi.com/event/alcoholics-anonymous/2028-11-24/
LOCATION:Recovery Resource Center\, 5460 Kat Yot Lane\, crandon\, Wisconsin\, 54520\, United States
CATEGORIES:Behavioral Health,Main,Tribal Members
ATTACH;FMTTYPE=image/jpeg:https://www.fcpotawatomi.com/wp-content/uploads/2026/03/125403-HWBH-AlcoholAnon-DS.jpg
END:VEVENT
BEGIN:VEVENT
DTSTART;TZID=America/Chicago:20281127T163000
DTEND;TZID=America/Chicago:20281127T180000
DTSTAMP:20260420T114541
CREATED:20251006T181709Z
LAST-MODIFIED:20251006T181737Z
UID:10014232-1858955400-1858960800@www.fcpotawatomi.com
SUMMARY:Powwow Club
DESCRIPTION:
URL:https://www.fcpotawatomi.com/event/powwow-club-2/2028-11-27/
LOCATION:WI
CATEGORIES:Community Center,Cultural Center Library & Museum,Main,Tribal Members
ATTACH;FMTTYPE=image/jpeg:https://www.fcpotawatomi.com/wp-content/uploads/2025/03/54222-CUL-PowWowClubFLYR-pdf-cropped.jpg
END:VEVENT
BEGIN:VEVENT
DTSTART;TZID=America/Chicago:20281128T090000
DTEND;TZID=America/Chicago:20281128T110000
DTSTAMP:20260420T114541
CREATED:20250422T153723Z
LAST-MODIFIED:20250422T153725Z
UID:10013134-1859014800-1859022000@www.fcpotawatomi.com
SUMMARY:Inspiration Station
DESCRIPTION:
URL:https://www.fcpotawatomi.com/event/inspiration-station/2028-11-28/
LOCATION:Recovery Resource Center\, 5460 Kat Yot Lane\, crandon\, Wisconsin\, 54520\, United States
CATEGORIES:Behavioral Health,Main,Tribal Members
ATTACH;FMTTYPE=image/jpeg:https://www.fcpotawatomi.com/wp-content/uploads/2025/04/19069191703-scaled-cropped.jpg
END:VEVENT
BEGIN:VEVENT
DTSTART;TZID=America/Chicago:20281129T080000
DTEND;TZID=America/Chicago:20281129T170000
DTSTAMP:20260420T114541
CREATED:20260311T155954Z
LAST-MODIFIED:20260311T155958Z
UID:10015468-1859097600-1859130000@www.fcpotawatomi.com
SUMMARY:Walking the Spectrum
DESCRIPTION:
URL:https://www.fcpotawatomi.com/event/walking-the-spectrum/2028-11-29/
LOCATION:Potawatomi Community Center\, 5471 The Place Where Everyone Plays Rd\, Lincoln\, WI\, 54520\, United States
GEO:45.5710735;-88.8527208
X-APPLE-STRUCTURED-LOCATION;VALUE=URI;X-ADDRESS=Potawatomi Community Center 5471 The Place Where Everyone Plays Rd Lincoln WI 54520 United States;X-APPLE-RADIUS=500;X-TITLE=5471 The Place Where Everyone Plays Rd:geo:-88.8527208,45.5710735
END:VEVENT
BEGIN:VEVENT
DTSTART;TZID=America/Chicago:20281129T100000
DTEND;TZID=America/Chicago:20281129T120000
DTSTAMP:20260420T114541
CREATED:20250311T183236Z
LAST-MODIFIED:20250311T183238Z
UID:10012077-1859104800-1859112000@www.fcpotawatomi.com
SUMMARY:Language Class
DESCRIPTION:
URL:https://www.fcpotawatomi.com/event/language-class/2028-11-29/
LOCATION:FCP Cultural Center\, Library & Museum\, 8130 Mish Ko Swen Drive\, Crandon\, WI\, 54520\, United States
CATEGORIES:Cultural Center Library & Museum,Main,Tribal Members
END:VEVENT
BEGIN:VEVENT
DTSTART;TZID=America/Chicago:20281130T160000
DTEND;TZID=America/Chicago:20281130T180000
DTSTAMP:20260420T114541
CREATED:20250311T185547Z
LAST-MODIFIED:20250311T185904Z
UID:10012444-1859212800-1859220000@www.fcpotawatomi.com
SUMMARY:Friends & Family Support Circle
DESCRIPTION:
URL:https://www.fcpotawatomi.com/event/friends-family-support-circle-2/2028-11-30/
LOCATION:FCP Tribal Hall\, 8000 Potawatomi Trail\, Crandon\, WI\, United States
CATEGORIES:Behavioral Health,Main,Tribal Members
ATTACH;FMTTYPE=image/jpeg:https://www.fcpotawatomi.com/wp-content/uploads/2025/03/57122-HWBH-FamiliesFriendsSuppCircle-FLYR-scaled-cropped.jpg
END:VEVENT
BEGIN:VEVENT
DTSTART;TZID=America/Chicago:20281130T173000
DTEND;TZID=America/Chicago:20281130T203000
DTSTAMP:20260420T114541
CREATED:20250414T153522Z
LAST-MODIFIED:20250414T153524Z
UID:10012849-1859218200-1859229000@www.fcpotawatomi.com
SUMMARY:Talking Circle
DESCRIPTION:
URL:https://www.fcpotawatomi.com/event/talking-circle/2028-11-30/
LOCATION:Recovery Resource Center\, 5460 Kat Yot Lane\, crandon\, Wisconsin\, 54520\, United States
CATEGORIES:Behavioral Health,Main,Tribal Members
ATTACH;FMTTYPE=image/jpeg:https://www.fcpotawatomi.com/wp-content/uploads/2025/04/62079-HWBH-TalkingCircleFLYR-pdf-cropped.jpg
END:VEVENT
BEGIN:VEVENT
DTSTART;TZID=America/Chicago:20281201T080000
DTEND;TZID=America/Chicago:20281201T170000
DTSTAMP:20260420T114541
CREATED:20250630T131149Z
LAST-MODIFIED:20251209T170212Z
UID:10013662-1859270400-1859302800@www.fcpotawatomi.com
SUMMARY:Smudge Talk
DESCRIPTION:
URL:https://www.fcpotawatomi.com/event/smudge-talk/2028-12-01/
LOCATION:Recovery Resource Center\, 5460 Kat Yot Lane\, crandon\, Wisconsin\, 54520\, United States
CATEGORIES:Health & Wellness Center,Main,Tribal Members
ATTACH;FMTTYPE=image/jpeg:https://www.fcpotawatomi.com/wp-content/uploads/2025/06/68456-HWBH-SmudgeTalkFLYR-pdf-cropped.jpg
END:VEVENT
BEGIN:VEVENT
DTSTART;TZID=America/Chicago:20281201T080000
DTEND;TZID=America/Chicago:20281201T170000
DTSTAMP:20260420T114541
CREATED:20260311T191920Z
LAST-MODIFIED:20260311T191923Z
UID:10015993-1859270400-1859302800@www.fcpotawatomi.com
SUMMARY:Alcoholics Anonymous
DESCRIPTION:
URL:https://www.fcpotawatomi.com/event/alcoholics-anonymous/2028-12-01/
LOCATION:Recovery Resource Center\, 5460 Kat Yot Lane\, crandon\, Wisconsin\, 54520\, United States
CATEGORIES:Behavioral Health,Main,Tribal Members
ATTACH;FMTTYPE=image/jpeg:https://www.fcpotawatomi.com/wp-content/uploads/2026/03/125403-HWBH-AlcoholAnon-DS.jpg
END:VEVENT
BEGIN:VEVENT
DTSTART;TZID=America/Chicago:20281204T163000
DTEND;TZID=America/Chicago:20281204T180000
DTSTAMP:20260420T114541
CREATED:20251006T181709Z
LAST-MODIFIED:20251006T181737Z
UID:10014233-1859560200-1859565600@www.fcpotawatomi.com
SUMMARY:Powwow Club
DESCRIPTION:
URL:https://www.fcpotawatomi.com/event/powwow-club-2/2028-12-04/
LOCATION:WI
CATEGORIES:Community Center,Cultural Center Library & Museum,Main,Tribal Members
ATTACH;FMTTYPE=image/jpeg:https://www.fcpotawatomi.com/wp-content/uploads/2025/03/54222-CUL-PowWowClubFLYR-pdf-cropped.jpg
END:VEVENT
BEGIN:VEVENT
DTSTART;TZID=America/Chicago:20281205T090000
DTEND;TZID=America/Chicago:20281205T110000
DTSTAMP:20260420T114541
CREATED:20250422T153723Z
LAST-MODIFIED:20250422T153725Z
UID:10013135-1859619600-1859626800@www.fcpotawatomi.com
SUMMARY:Inspiration Station
DESCRIPTION:
URL:https://www.fcpotawatomi.com/event/inspiration-station/2028-12-05/
LOCATION:Recovery Resource Center\, 5460 Kat Yot Lane\, crandon\, Wisconsin\, 54520\, United States
CATEGORIES:Behavioral Health,Main,Tribal Members
ATTACH;FMTTYPE=image/jpeg:https://www.fcpotawatomi.com/wp-content/uploads/2025/04/19069191703-scaled-cropped.jpg
END:VEVENT
BEGIN:VEVENT
DTSTART;TZID=America/Chicago:20281206T080000
DTEND;TZID=America/Chicago:20281206T170000
DTSTAMP:20260420T114541
CREATED:20260311T155954Z
LAST-MODIFIED:20260311T155958Z
UID:10015469-1859702400-1859734800@www.fcpotawatomi.com
SUMMARY:Walking the Spectrum
DESCRIPTION:
URL:https://www.fcpotawatomi.com/event/walking-the-spectrum/2028-12-06/
LOCATION:Potawatomi Community Center\, 5471 The Place Where Everyone Plays Rd\, Lincoln\, WI\, 54520\, United States
GEO:45.5710735;-88.8527208
X-APPLE-STRUCTURED-LOCATION;VALUE=URI;X-ADDRESS=Potawatomi Community Center 5471 The Place Where Everyone Plays Rd Lincoln WI 54520 United States;X-APPLE-RADIUS=500;X-TITLE=5471 The Place Where Everyone Plays Rd:geo:-88.8527208,45.5710735
END:VEVENT
BEGIN:VEVENT
DTSTART;TZID=America/Chicago:20281206T100000
DTEND;TZID=America/Chicago:20281206T120000
DTSTAMP:20260420T114541
CREATED:20250311T183236Z
LAST-MODIFIED:20250311T183238Z
UID:10012078-1859709600-1859716800@www.fcpotawatomi.com
SUMMARY:Language Class
DESCRIPTION:
URL:https://www.fcpotawatomi.com/event/language-class/2028-12-06/
LOCATION:FCP Cultural Center\, Library & Museum\, 8130 Mish Ko Swen Drive\, Crandon\, WI\, 54520\, United States
CATEGORIES:Cultural Center Library & Museum,Main,Tribal Members
END:VEVENT
BEGIN:VEVENT
DTSTART;TZID=America/Chicago:20281207T160000
DTEND;TZID=America/Chicago:20281207T180000
DTSTAMP:20260420T114541
CREATED:20250311T185547Z
LAST-MODIFIED:20250311T185904Z
UID:10012445-1859817600-1859824800@www.fcpotawatomi.com
SUMMARY:Friends & Family Support Circle
DESCRIPTION:
URL:https://www.fcpotawatomi.com/event/friends-family-support-circle-2/2028-12-07/
LOCATION:FCP Tribal Hall\, 8000 Potawatomi Trail\, Crandon\, WI\, United States
CATEGORIES:Behavioral Health,Main,Tribal Members
ATTACH;FMTTYPE=image/jpeg:https://www.fcpotawatomi.com/wp-content/uploads/2025/03/57122-HWBH-FamiliesFriendsSuppCircle-FLYR-scaled-cropped.jpg
END:VEVENT
BEGIN:VEVENT
DTSTART;TZID=America/Chicago:20281207T173000
DTEND;TZID=America/Chicago:20281207T203000
DTSTAMP:20260420T114541
CREATED:20250414T153522Z
LAST-MODIFIED:20250414T153524Z
UID:10012850-1859823000-1859833800@www.fcpotawatomi.com
SUMMARY:Talking Circle
DESCRIPTION:
URL:https://www.fcpotawatomi.com/event/talking-circle/2028-12-07/
LOCATION:Recovery Resource Center\, 5460 Kat Yot Lane\, crandon\, Wisconsin\, 54520\, United States
CATEGORIES:Behavioral Health,Main,Tribal Members
ATTACH;FMTTYPE=image/jpeg:https://www.fcpotawatomi.com/wp-content/uploads/2025/04/62079-HWBH-TalkingCircleFLYR-pdf-cropped.jpg
END:VEVENT
BEGIN:VEVENT
DTSTART;TZID=America/Chicago:20281208T080000
DTEND;TZID=America/Chicago:20281208T170000
DTSTAMP:20260420T114541
CREATED:20250630T131149Z
LAST-MODIFIED:20251209T170212Z
UID:10013663-1859875200-1859907600@www.fcpotawatomi.com
SUMMARY:Smudge Talk
DESCRIPTION:
URL:https://www.fcpotawatomi.com/event/smudge-talk/2028-12-08/
LOCATION:Recovery Resource Center\, 5460 Kat Yot Lane\, crandon\, Wisconsin\, 54520\, United States
CATEGORIES:Health & Wellness Center,Main,Tribal Members
ATTACH;FMTTYPE=image/jpeg:https://www.fcpotawatomi.com/wp-content/uploads/2025/06/68456-HWBH-SmudgeTalkFLYR-pdf-cropped.jpg
END:VEVENT
BEGIN:VEVENT
DTSTART;TZID=America/Chicago:20281208T080000
DTEND;TZID=America/Chicago:20281208T170000
DTSTAMP:20260420T114541
CREATED:20260311T191920Z
LAST-MODIFIED:20260311T191923Z
UID:10015994-1859875200-1859907600@www.fcpotawatomi.com
SUMMARY:Alcoholics Anonymous
DESCRIPTION:
URL:https://www.fcpotawatomi.com/event/alcoholics-anonymous/2028-12-08/
LOCATION:Recovery Resource Center\, 5460 Kat Yot Lane\, crandon\, Wisconsin\, 54520\, United States
CATEGORIES:Behavioral Health,Main,Tribal Members
ATTACH;FMTTYPE=image/jpeg:https://www.fcpotawatomi.com/wp-content/uploads/2026/03/125403-HWBH-AlcoholAnon-DS.jpg
END:VEVENT
BEGIN:VEVENT
DTSTART;TZID=America/Chicago:20281211T163000
DTEND;TZID=America/Chicago:20281211T180000
DTSTAMP:20260420T114541
CREATED:20251006T181709Z
LAST-MODIFIED:20251006T181737Z
UID:10014234-1860165000-1860170400@www.fcpotawatomi.com
SUMMARY:Powwow Club
DESCRIPTION:
URL:https://www.fcpotawatomi.com/event/powwow-club-2/2028-12-11/
LOCATION:WI
CATEGORIES:Community Center,Cultural Center Library & Museum,Main,Tribal Members
ATTACH;FMTTYPE=image/jpeg:https://www.fcpotawatomi.com/wp-content/uploads/2025/03/54222-CUL-PowWowClubFLYR-pdf-cropped.jpg
END:VEVENT
BEGIN:VEVENT
DTSTART;TZID=America/Chicago:20281212T090000
DTEND;TZID=America/Chicago:20281212T110000
DTSTAMP:20260420T114541
CREATED:20250422T153723Z
LAST-MODIFIED:20250422T153725Z
UID:10013136-1860224400-1860231600@www.fcpotawatomi.com
SUMMARY:Inspiration Station
DESCRIPTION:
URL:https://www.fcpotawatomi.com/event/inspiration-station/2028-12-12/
LOCATION:Recovery Resource Center\, 5460 Kat Yot Lane\, crandon\, Wisconsin\, 54520\, United States
CATEGORIES:Behavioral Health,Main,Tribal Members
ATTACH;FMTTYPE=image/jpeg:https://www.fcpotawatomi.com/wp-content/uploads/2025/04/19069191703-scaled-cropped.jpg
END:VEVENT
END:VCALENDAR