BEGIN:VCALENDAR
VERSION:2.0
PRODID:-//Forest County Potawatomi - ECPv6.15.20//NONSGML v1.0//EN
CALSCALE:GREGORIAN
METHOD:PUBLISH
X-WR-CALNAME:Forest County Potawatomi
X-ORIGINAL-URL:https://www.fcpotawatomi.com
X-WR-CALDESC:Events for Forest County Potawatomi
REFRESH-INTERVAL;VALUE=DURATION:PT1H
X-Robots-Tag:noindex
X-PUBLISHED-TTL:PT1H
BEGIN:VTIMEZONE
TZID:America/Chicago
BEGIN:DAYLIGHT
TZOFFSETFROM:-0600
TZOFFSETTO:-0500
TZNAME:CDT
DTSTART:20250309T080000
END:DAYLIGHT
BEGIN:STANDARD
TZOFFSETFROM:-0500
TZOFFSETTO:-0600
TZNAME:CST
DTSTART:20251102T070000
END:STANDARD
BEGIN:DAYLIGHT
TZOFFSETFROM:-0600
TZOFFSETTO:-0500
TZNAME:CDT
DTSTART:20260308T080000
END:DAYLIGHT
BEGIN:STANDARD
TZOFFSETFROM:-0500
TZOFFSETTO:-0600
TZNAME:CST
DTSTART:20261101T070000
END:STANDARD
BEGIN:DAYLIGHT
TZOFFSETFROM:-0600
TZOFFSETTO:-0500
TZNAME:CDT
DTSTART:20270314T080000
END:DAYLIGHT
BEGIN:STANDARD
TZOFFSETFROM:-0500
TZOFFSETTO:-0600
TZNAME:CST
DTSTART:20271107T070000
END:STANDARD
END:VTIMEZONE
BEGIN:VEVENT
DTSTART;TZID=America/Chicago:20260423T120000
DTEND;TZID=America/Chicago:20260423T133000
DTSTAMP:20260423T080546
CREATED:20260401T152200Z
LAST-MODIFIED:20260401T152200Z
UID:10016153-1776945600-1776951000@www.fcpotawatomi.com
SUMMARY:Diabetes Luncheon
DESCRIPTION:
URL:https://www.fcpotawatomi.com/event/diabetes-luncheon/
LOCATION:Health & Wellness Center\, 5416 Everybodys Road\, Crandon\, WI\, 54520\, United States
CATEGORIES:Community Health,Health & Wellness Center,Main,Tribal Members
ATTACH;FMTTYPE=image/jpeg:https://www.fcpotawatomi.com/wp-content/uploads/2026/04/129508-HWCH-DiabetesLunch-Apr26-scaled-cropped.jpg
GEO:45.569557;-88.8426304
X-APPLE-STRUCTURED-LOCATION;VALUE=URI;X-ADDRESS=Health & Wellness Center 5416 Everybodys Road Crandon WI 54520 United States;X-APPLE-RADIUS=500;X-TITLE=5416 Everybodys Road:geo:-88.8426304,45.569557
END:VEVENT
BEGIN:VEVENT
DTSTART;TZID=America/Chicago:20260423T160000
DTEND;TZID=America/Chicago:20260423T180000
DTSTAMP:20260423T080546
CREATED:20250311T185547Z
LAST-MODIFIED:20250311T185904Z
UID:10012308-1776960000-1776967200@www.fcpotawatomi.com
SUMMARY:Friends & Family Support Circle
DESCRIPTION:
URL:https://www.fcpotawatomi.com/event/friends-family-support-circle-2/2026-04-23/
LOCATION:FCP Tribal Hall\, 8000 Potawatomi Trail\, Crandon\, WI\, United States
CATEGORIES:Behavioral Health,Main,Tribal Members
ATTACH;FMTTYPE=image/jpeg:https://www.fcpotawatomi.com/wp-content/uploads/2025/03/57122-HWBH-FamiliesFriendsSuppCircle-FLYR-scaled-cropped.jpg
END:VEVENT
BEGIN:VEVENT
DTSTART;TZID=America/Chicago:20260423T170000
DTEND;TZID=America/Chicago:20260423T190000
DTSTAMP:20260423T080546
CREATED:20260319T143145Z
LAST-MODIFIED:20260319T143148Z
UID:10016126-1776963600-1776970800@www.fcpotawatomi.com
SUMMARY:wade fernandez
DESCRIPTION:
URL:https://www.fcpotawatomi.com/event/wade-fernandez/
LOCATION:FCP Executive Building Auditorium\, 5416 Everybody's Rd\, Crandon\, WI\, 54520\, United States
CATEGORIES:Education,Main,Tribal Members
ATTACH;FMTTYPE=image/jpeg:https://www.fcpotawatomi.com/wp-content/uploads/2026/03/126294-WadeFernandezConcert-DS-scaled.jpg
END:VEVENT
BEGIN:VEVENT
DTSTART;TZID=America/Chicago:20260423T173000
DTEND;TZID=America/Chicago:20260423T203000
DTSTAMP:20260423T080546
CREATED:20250414T153522Z
LAST-MODIFIED:20250414T153524Z
UID:10012713-1776965400-1776976200@www.fcpotawatomi.com
SUMMARY:Talking Circle
DESCRIPTION:
URL:https://www.fcpotawatomi.com/event/talking-circle/2026-04-23/
LOCATION:Recovery Resource Center\, 5460 Kat Yot Lane\, crandon\, Wisconsin\, 54520\, United States
CATEGORIES:Behavioral Health,Main,Tribal Members
ATTACH;FMTTYPE=image/jpeg:https://www.fcpotawatomi.com/wp-content/uploads/2025/04/62079-HWBH-TalkingCircleFLYR-pdf-cropped.jpg
END:VEVENT
END:VCALENDAR